BEGIN:VCALENDAR
VERSION:2.0
PRODID:-//Tukios.com/
BEGIN:VEVENT
UID:acc3b181-9299-4a6c-b4df-7c5819f540f3@www.sanbenitofuneralhome.com
DTSTAMP:20260421T092426Z
DTSTART:20260220T010000Z
DTEND:20260220T020000Z
SUMMARY:Rosary
DESCRIPTION:
URL:https://www.sanbenitofuneralhome.com/obituaries/margarita-cerecedo
LOCATION: 1400 US-77 BUS  San Benito TX 78586
GEO:26.1523918;-97.6452089
END:VEVENT
END:VCALENDAR